BEGIN:VCALENDAR
VERSION:2.0
PRODID:-//Tara Omagh - ECPv6.15.20//NONSGML v1.0//EN
CALSCALE:GREGORIAN
METHOD:PUBLISH
X-WR-CALNAME:Tara Omagh
X-ORIGINAL-URL:https://taraomagh.com
X-WR-CALDESC:Events for Tara Omagh
REFRESH-INTERVAL;VALUE=DURATION:PT1H
X-Robots-Tag:noindex
X-PUBLISHED-TTL:PT1H
BEGIN:VTIMEZONE
TZID:Europe/London
BEGIN:DAYLIGHT
TZOFFSETFROM:+0000
TZOFFSETTO:+0100
TZNAME:BST
DTSTART:20210328T010000
END:DAYLIGHT
BEGIN:STANDARD
TZOFFSETFROM:+0100
TZOFFSETTO:+0000
TZNAME:GMT
DTSTART:20211031T010000
END:STANDARD
BEGIN:DAYLIGHT
TZOFFSETFROM:+0000
TZOFFSETTO:+0100
TZNAME:BST
DTSTART:20220327T010000
END:DAYLIGHT
BEGIN:STANDARD
TZOFFSETFROM:+0100
TZOFFSETTO:+0000
TZNAME:GMT
DTSTART:20221030T010000
END:STANDARD
BEGIN:DAYLIGHT
TZOFFSETFROM:+0000
TZOFFSETTO:+0100
TZNAME:BST
DTSTART:20230326T010000
END:DAYLIGHT
BEGIN:STANDARD
TZOFFSETFROM:+0100
TZOFFSETTO:+0000
TZNAME:GMT
DTSTART:20231029T010000
END:STANDARD
END:VTIMEZONE
BEGIN:VEVENT
DTSTART;TZID=Europe/London:20220426T103000
DTEND;TZID=Europe/London:20220426T120000
DTSTAMP:20260420T010732
CREATED:20220427T070019Z
LAST-MODIFIED:20220426T095922Z
UID:4999-1650969000-1650974400@taraomagh.com
SUMMARY:Meditating Together
DESCRIPTION:Mary Daly & Maura Twohig\nThe established Tara Centre Meditation Group will resume meeting on Tuesday mornings at 10.30am\, led by Mary and Maura\, commencing on Tuesday 26th April 2022. Anyone who has followed the Meditation / Mindfulness Course for Beginners at the Tara Centre is welcome to join this group. Please contact Reception prior to doing so. \nDate:\nTuesday mornings commencing Tuesday 26th April 2022. \nTime:\n 10.30am–12 noon  \nRefreshments:\nRefreshments provided Cost: Contributions welcome  \nTo Book:\n Places are limited due to Covid 19 restrictions. Prior booking is essential. Places will be allocated on a first come first served basis. Book your place by contacting Reception on 028 8225 0024. \n(Open to anyone who has followed the Tara Centre Meditation/Mindfulness Course for Beginners)
URL:https://taraomagh.com/programme/meditating-together-summer-2022/2022-04-26/
LOCATION:Tara Centre\, 11 Holmview Terrace\, Omagh\, Tyrone\, BT79 0AH\, United Kingdom
CATEGORIES:Programmes & Workshops
ATTACH;FMTTYPE=image/jpeg:https://taraomagh.com/wp-content/uploads/2021/09/mary-daly-maura-twohig.jpg
ORGANIZER;CN="Tara Omagh":MAILTO:info@taraomagh.com
GEO:54.6002737;-7.2945612
X-APPLE-STRUCTURED-LOCATION;VALUE=URI;X-ADDRESS=Tara Centre 11 Holmview Terrace Omagh Tyrone BT79 0AH United Kingdom;X-APPLE-RADIUS=500;X-TITLE=11 Holmview Terrace:geo:-7.2945612,54.6002737
END:VEVENT
END:VCALENDAR