BEGIN:VCALENDAR
VERSION:2.0
PRODID:-//Tara Omagh - ECPv6.15.20//NONSGML v1.0//EN
CALSCALE:GREGORIAN
METHOD:PUBLISH
X-ORIGINAL-URL:https://taraomagh.com
X-WR-CALDESC:Events for Tara Omagh
REFRESH-INTERVAL;VALUE=DURATION:PT1H
X-Robots-Tag:noindex
X-PUBLISHED-TTL:PT1H
BEGIN:VTIMEZONE
TZID:Europe/London
BEGIN:DAYLIGHT
TZOFFSETFROM:+0000
TZOFFSETTO:+0100
TZNAME:BST
DTSTART:20230326T010000
END:DAYLIGHT
BEGIN:STANDARD
TZOFFSETFROM:+0100
TZOFFSETTO:+0000
TZNAME:GMT
DTSTART:20231029T010000
END:STANDARD
BEGIN:DAYLIGHT
TZOFFSETFROM:+0000
TZOFFSETTO:+0100
TZNAME:BST
DTSTART:20240331T010000
END:DAYLIGHT
BEGIN:STANDARD
TZOFFSETFROM:+0100
TZOFFSETTO:+0000
TZNAME:GMT
DTSTART:20241027T010000
END:STANDARD
BEGIN:DAYLIGHT
TZOFFSETFROM:+0000
TZOFFSETTO:+0100
TZNAME:BST
DTSTART:20250330T010000
END:DAYLIGHT
BEGIN:STANDARD
TZOFFSETFROM:+0100
TZOFFSETTO:+0000
TZNAME:GMT
DTSTART:20251026T010000
END:STANDARD
END:VTIMEZONE
BEGIN:VEVENT
DTSTART;TZID=Europe/London:20241124T100000
DTEND;TZID=Europe/London:20241124T160000
DTSTAMP:20260419T143011
CREATED:20240903T203530Z
LAST-MODIFIED:20240903T203530Z
UID:6694-1732442400-1732464000@taraomagh.com
SUMMARY:The Enneagram - Declan Coyle
DESCRIPTION:Date: Saturday 23rd and Sunday 24th November 2024\nTime: Both days 10am-4pm (Saturday registration 9-9.45am)\n\nWe all have nine powerful energies\, gifts or strengths within us. Within these nine energies\, we have one major or dominant one. \nWhen we discover this great gift and use it in the service of humanity to build a better world\, it becomes totally transformational. \nThe discovery of these individual strengths also increases our compassion\, our understanding and our respect for other people. \nThe Enneagram is truly life changing for our families and for our teams at work. \nDates:\nSaturday 23rd and Sunday 24th November 2024 \nTimes:\n10am – 4pm (Saturday VSS registration 9-9.45am) \nCost:\nYour place is secured by a £20 booking fee. VSS subsidises the rest of the cost for participants who meet the criteria. The cost is £60 for those who do not qualify for VSS. \nRefreshments:\nTea and coffee breaks as well as lunch provided on both days \nNote:\nPrior booking is essential. Places will be offered on a first come first serve basis. Book your place by contacting reception \nTel: 028 8225 0024.
URL:https://taraomagh.com/programme/the-enneagram-declan-coyle/2024-11-24/
LOCATION:Tara Centre\, 11 Holmview Terrace\, Omagh\, Tyrone\, BT79 0AH\, United Kingdom
CATEGORIES:Programmes & Workshops
ATTACH;FMTTYPE=image/png:https://taraomagh.com/wp-content/uploads/2024/09/Screenshot-2024-09-03-at-21.33.05.png
ORGANIZER;CN="Tara Omagh":MAILTO:info@taraomagh.com
GEO:54.6002737;-7.2945612
X-APPLE-STRUCTURED-LOCATION;VALUE=URI;X-ADDRESS=Tara Centre 11 Holmview Terrace Omagh Tyrone BT79 0AH United Kingdom;X-APPLE-RADIUS=500;X-TITLE=11 Holmview Terrace:geo:-7.2945612,54.6002737
END:VEVENT
BEGIN:VEVENT
DTSTART;TZID=Europe/London:20241123T100000
DTEND;TZID=Europe/London:20241123T160000
DTSTAMP:20260419T143011
CREATED:20240903T203530Z
LAST-MODIFIED:20240903T203530Z
UID:6692-1732356000-1732377600@taraomagh.com
SUMMARY:The Enneagram - Declan Coyle
DESCRIPTION:Date: Saturday 23rd and Sunday 24th November 2024\nTime: Both days 10am-4pm (Saturday registration 9-9.45am)\n\nWe all have nine powerful energies\, gifts or strengths within us. Within these nine energies\, we have one major or dominant one. \nWhen we discover this great gift and use it in the service of humanity to build a better world\, it becomes totally transformational. \nThe discovery of these individual strengths also increases our compassion\, our understanding and our respect for other people. \nThe Enneagram is truly life changing for our families and for our teams at work. \nDates:\nSaturday 23rd and Sunday 24th November 2024 \nTimes:\n10am – 4pm (Saturday VSS registration 9-9.45am) \nCost:\nYour place is secured by a £20 booking fee. VSS subsidises the rest of the cost for participants who meet the criteria. The cost is £60 for those who do not qualify for VSS. \nRefreshments:\nTea and coffee breaks as well as lunch provided on both days \nNote:\nPrior booking is essential. Places will be offered on a first come first serve basis. Book your place by contacting reception \nTel: 028 8225 0024.
URL:https://taraomagh.com/programme/the-enneagram-declan-coyle/2024-11-23/
LOCATION:Tara Centre\, 11 Holmview Terrace\, Omagh\, Tyrone\, BT79 0AH\, United Kingdom
CATEGORIES:Programmes & Workshops
ATTACH;FMTTYPE=image/png:https://taraomagh.com/wp-content/uploads/2024/09/Screenshot-2024-09-03-at-21.33.05.png
ORGANIZER;CN="Tara Omagh":MAILTO:info@taraomagh.com
GEO:54.6002737;-7.2945612
X-APPLE-STRUCTURED-LOCATION;VALUE=URI;X-ADDRESS=Tara Centre 11 Holmview Terrace Omagh Tyrone BT79 0AH United Kingdom;X-APPLE-RADIUS=500;X-TITLE=11 Holmview Terrace:geo:-7.2945612,54.6002737
END:VEVENT
END:VCALENDAR