BEGIN:VCALENDAR
VERSION:2.0
PRODID:-//Tara Omagh - ECPv6.15.20//NONSGML v1.0//EN
CALSCALE:GREGORIAN
METHOD:PUBLISH
X-ORIGINAL-URL:https://taraomagh.com
X-WR-CALDESC:Events for Tara Omagh
REFRESH-INTERVAL;VALUE=DURATION:PT1H
X-Robots-Tag:noindex
X-PUBLISHED-TTL:PT1H
BEGIN:VTIMEZONE
TZID:Europe/London
BEGIN:DAYLIGHT
TZOFFSETFROM:+0000
TZOFFSETTO:+0100
TZNAME:BST
DTSTART:20220327T010000
END:DAYLIGHT
BEGIN:STANDARD
TZOFFSETFROM:+0100
TZOFFSETTO:+0000
TZNAME:GMT
DTSTART:20221030T010000
END:STANDARD
BEGIN:DAYLIGHT
TZOFFSETFROM:+0000
TZOFFSETTO:+0100
TZNAME:BST
DTSTART:20230326T010000
END:DAYLIGHT
BEGIN:STANDARD
TZOFFSETFROM:+0100
TZOFFSETTO:+0000
TZNAME:GMT
DTSTART:20231029T010000
END:STANDARD
BEGIN:DAYLIGHT
TZOFFSETFROM:+0000
TZOFFSETTO:+0100
TZNAME:BST
DTSTART:20240331T010000
END:DAYLIGHT
BEGIN:STANDARD
TZOFFSETFROM:+0100
TZOFFSETTO:+0000
TZNAME:GMT
DTSTART:20241027T010000
END:STANDARD
END:VTIMEZONE
BEGIN:VEVENT
DTSTART;TZID=Europe/London:20230513T100000
DTEND;TZID=Europe/London:20230513T160000
DTSTAMP:20260419T200511
CREATED:20230419T105228Z
LAST-MODIFIED:20230419T131706Z
UID:5759-1683972000-1683993600@taraomagh.com
SUMMARY:“The Green Platform – Simply Life Changing”
DESCRIPTION:Declan Coyle returns once more to the Centre by popular demand to present his inspirational “The Green Platform” workshop\, now acclaimed worldwide. \nFor those of you attending for the first time\, “The Green Platform” is a practical\, user friendly system developed to help you identify and implement more positive choices in your personal\, working\, sporting and home life.  \nOver the course of two days you will learn to apply Declan’s life transforming techniques to understand how the mind works\, inspiring you to make the best possible choices to create and reach your goals. \nUsing the imagery of the ‘Red Platform’ (negative thinking) and a ‘Green Platform’ (positive thinking)\, Declan illustrates how “miracles happen” whenever one steps out of the little boat of fears which dominate the ‘Red Platfrom’\, and chooses instead the ‘Green Platform’ – a positive energy zone of freedom\, joy and unconditional love – as the springboard from which to live life to the full. \n(60 places available) \nDate:\nSaturday 13th May and Sunday 14th May 2023 \nTime:\n10.00 am – 4.00pm (Registration 9.00am – 9.45am on Saturday 22nd October) \nCost:\nYour place is secured by a £10 booking fee. VSS subsidises the rest of the cost for participants who meet the criteria. The cost is £60 for those who do not qualify for VSS. \nTo Book:\nPrior booking is essential. Places will be allocated on a first come first served basis. Book your place by contacting Reception on 028 8225 0024.
URL:https://taraomagh.com/programme/the-green-platform-simply-life-changing-summer-2023/2023-05-13/
CATEGORIES:Programmes & Workshops
ATTACH;FMTTYPE=image/jpeg:https://taraomagh.com/wp-content/uploads/2021/03/declan-coyle-e1614764830714.jpg
END:VEVENT
END:VCALENDAR