BEGIN:VCALENDAR
VERSION:2.0
PRODID:-//Tara Omagh - ECPv6.15.20//NONSGML v1.0//EN
CALSCALE:GREGORIAN
METHOD:PUBLISH
X-WR-CALNAME:Tara Omagh
X-ORIGINAL-URL:https://taraomagh.com
X-WR-CALDESC:Events for Tara Omagh
REFRESH-INTERVAL;VALUE=DURATION:PT1H
X-Robots-Tag:noindex
X-PUBLISHED-TTL:PT1H
BEGIN:VTIMEZONE
TZID:Europe/London
BEGIN:DAYLIGHT
TZOFFSETFROM:+0000
TZOFFSETTO:+0100
TZNAME:BST
DTSTART:20230326T010000
END:DAYLIGHT
BEGIN:STANDARD
TZOFFSETFROM:+0100
TZOFFSETTO:+0000
TZNAME:GMT
DTSTART:20231029T010000
END:STANDARD
BEGIN:DAYLIGHT
TZOFFSETFROM:+0000
TZOFFSETTO:+0100
TZNAME:BST
DTSTART:20240331T010000
END:DAYLIGHT
BEGIN:STANDARD
TZOFFSETFROM:+0100
TZOFFSETTO:+0000
TZNAME:GMT
DTSTART:20241027T010000
END:STANDARD
BEGIN:DAYLIGHT
TZOFFSETFROM:+0000
TZOFFSETTO:+0100
TZNAME:BST
DTSTART:20250330T010000
END:DAYLIGHT
BEGIN:STANDARD
TZOFFSETFROM:+0100
TZOFFSETTO:+0000
TZNAME:GMT
DTSTART:20251026T010000
END:STANDARD
END:VTIMEZONE
BEGIN:VEVENT
DTSTART;TZID=Europe/London:20240613T180000
DTEND;TZID=Europe/London:20240613T193000
DTSTAMP:20260419T194034
CREATED:20240412T070041Z
LAST-MODIFIED:20240412T102457Z
UID:6449-1718301600-1718307000@taraomagh.com
SUMMARY:Yoga for Beginners (Evening) Summer 2024
DESCRIPTION:Heather Kemps\nYoga is a very old tradition which has much to offer in today’s lifestyle\, helping us to feel more peaceful in a chaotic world. It helps to harmonize and balance the mind\, body and emotions through using postures\, breath and relaxation techniques. Yoga is for everyone. The practice of yoga is a tool to help individuals develop self-awareness\, thus enabling them to live a more balanced and fulfilling life. \nHeather Kemps has been delivering Yoga Courses at the Tara Centre since the beginning. Her approach stays true to the Indian tradition of Yoga in its original form with a view to healing of both mind and body. It includes a strong focus on exercises to help with not only stress and anxiety but also digestive health. \nThose who practice yoga at Tara are advised to wear loose clothing and bring a blanket or sleeping bag. It is advisable that expectant mothers wait until after the 12th week of pregnancy before attending Yoga sessions. \nAll yoga sessions run for eight weeks. \nDates:\nBeginners: starting Thursday 25th January to Thursday 28th March\, 6.00pm – 7.30pm. \nAdditional classes:\nBeginners:  Wednesday 24th April to Wednesday 12th June 2024\, 10.30am – 12.00am.\nIntermediates:  Thursday 25th April to Thursday 13th June\, 7.30pm – 9pm. \nCost:\n£50 (10 weeks) \nTO BOOK:\nPlaces are limited. Prior booking is essential. Places will be allocated on a first come first served basis. Book your place by contacting Reception on 028 8225 0024. \n“If you become identified with consciousness\, you will experience everyone as yourself. This is what yoga means.”\n \nSadhguru \n 
URL:https://taraomagh.com/programme/yoga-for-beginners-summer-2024-evening/2024-06-13/
LOCATION:Tara Centre\, 11 Holmview Terrace\, Omagh\, Tyrone\, BT79 0AH\, United Kingdom
CATEGORIES:Programmes & Workshops
ATTACH;FMTTYPE=image/jpeg:https://taraomagh.com/wp-content/uploads/2021/09/tara-yoga-thumbnail.jpg
ORGANIZER;CN="Tara Omagh":MAILTO:info@taraomagh.com
GEO:54.6002737;-7.2945612
X-APPLE-STRUCTURED-LOCATION;VALUE=URI;X-ADDRESS=Tara Centre 11 Holmview Terrace Omagh Tyrone BT79 0AH United Kingdom;X-APPLE-RADIUS=500;X-TITLE=11 Holmview Terrace:geo:-7.2945612,54.6002737
END:VEVENT
BEGIN:VEVENT
DTSTART;TZID=Europe/London:20240606T180000
DTEND;TZID=Europe/London:20240606T193000
DTSTAMP:20260419T194034
CREATED:20240412T070041Z
LAST-MODIFIED:20240412T102457Z
UID:6448-1717696800-1717702200@taraomagh.com
SUMMARY:Yoga for Beginners (Evening) Summer 2024
DESCRIPTION:Heather Kemps\nYoga is a very old tradition which has much to offer in today’s lifestyle\, helping us to feel more peaceful in a chaotic world. It helps to harmonize and balance the mind\, body and emotions through using postures\, breath and relaxation techniques. Yoga is for everyone. The practice of yoga is a tool to help individuals develop self-awareness\, thus enabling them to live a more balanced and fulfilling life. \nHeather Kemps has been delivering Yoga Courses at the Tara Centre since the beginning. Her approach stays true to the Indian tradition of Yoga in its original form with a view to healing of both mind and body. It includes a strong focus on exercises to help with not only stress and anxiety but also digestive health. \nThose who practice yoga at Tara are advised to wear loose clothing and bring a blanket or sleeping bag. It is advisable that expectant mothers wait until after the 12th week of pregnancy before attending Yoga sessions. \nAll yoga sessions run for eight weeks. \nDates:\nBeginners: starting Thursday 25th January to Thursday 28th March\, 6.00pm – 7.30pm. \nAdditional classes:\nBeginners:  Wednesday 24th April to Wednesday 12th June 2024\, 10.30am – 12.00am.\nIntermediates:  Thursday 25th April to Thursday 13th June\, 7.30pm – 9pm. \nCost:\n£50 (10 weeks) \nTO BOOK:\nPlaces are limited. Prior booking is essential. Places will be allocated on a first come first served basis. Book your place by contacting Reception on 028 8225 0024. \n“If you become identified with consciousness\, you will experience everyone as yourself. This is what yoga means.”\n \nSadhguru \n 
URL:https://taraomagh.com/programme/yoga-for-beginners-summer-2024-evening/2024-06-06/
LOCATION:Tara Centre\, 11 Holmview Terrace\, Omagh\, Tyrone\, BT79 0AH\, United Kingdom
CATEGORIES:Programmes & Workshops
ATTACH;FMTTYPE=image/jpeg:https://taraomagh.com/wp-content/uploads/2021/09/tara-yoga-thumbnail.jpg
ORGANIZER;CN="Tara Omagh":MAILTO:info@taraomagh.com
GEO:54.6002737;-7.2945612
X-APPLE-STRUCTURED-LOCATION;VALUE=URI;X-ADDRESS=Tara Centre 11 Holmview Terrace Omagh Tyrone BT79 0AH United Kingdom;X-APPLE-RADIUS=500;X-TITLE=11 Holmview Terrace:geo:-7.2945612,54.6002737
END:VEVENT
BEGIN:VEVENT
DTSTART;TZID=Europe/London:20240530T180000
DTEND;TZID=Europe/London:20240530T193000
DTSTAMP:20260419T194034
CREATED:20240412T070041Z
LAST-MODIFIED:20240412T102457Z
UID:6447-1717092000-1717097400@taraomagh.com
SUMMARY:Yoga for Beginners (Evening) Summer 2024
DESCRIPTION:Heather Kemps\nYoga is a very old tradition which has much to offer in today’s lifestyle\, helping us to feel more peaceful in a chaotic world. It helps to harmonize and balance the mind\, body and emotions through using postures\, breath and relaxation techniques. Yoga is for everyone. The practice of yoga is a tool to help individuals develop self-awareness\, thus enabling them to live a more balanced and fulfilling life. \nHeather Kemps has been delivering Yoga Courses at the Tara Centre since the beginning. Her approach stays true to the Indian tradition of Yoga in its original form with a view to healing of both mind and body. It includes a strong focus on exercises to help with not only stress and anxiety but also digestive health. \nThose who practice yoga at Tara are advised to wear loose clothing and bring a blanket or sleeping bag. It is advisable that expectant mothers wait until after the 12th week of pregnancy before attending Yoga sessions. \nAll yoga sessions run for eight weeks. \nDates:\nBeginners: starting Thursday 25th January to Thursday 28th March\, 6.00pm – 7.30pm. \nAdditional classes:\nBeginners:  Wednesday 24th April to Wednesday 12th June 2024\, 10.30am – 12.00am.\nIntermediates:  Thursday 25th April to Thursday 13th June\, 7.30pm – 9pm. \nCost:\n£50 (10 weeks) \nTO BOOK:\nPlaces are limited. Prior booking is essential. Places will be allocated on a first come first served basis. Book your place by contacting Reception on 028 8225 0024. \n“If you become identified with consciousness\, you will experience everyone as yourself. This is what yoga means.”\n \nSadhguru \n 
URL:https://taraomagh.com/programme/yoga-for-beginners-summer-2024-evening/2024-05-30/
LOCATION:Tara Centre\, 11 Holmview Terrace\, Omagh\, Tyrone\, BT79 0AH\, United Kingdom
CATEGORIES:Programmes & Workshops
ATTACH;FMTTYPE=image/jpeg:https://taraomagh.com/wp-content/uploads/2021/09/tara-yoga-thumbnail.jpg
ORGANIZER;CN="Tara Omagh":MAILTO:info@taraomagh.com
GEO:54.6002737;-7.2945612
X-APPLE-STRUCTURED-LOCATION;VALUE=URI;X-ADDRESS=Tara Centre 11 Holmview Terrace Omagh Tyrone BT79 0AH United Kingdom;X-APPLE-RADIUS=500;X-TITLE=11 Holmview Terrace:geo:-7.2945612,54.6002737
END:VEVENT
BEGIN:VEVENT
DTSTART;TZID=Europe/London:20240523T180000
DTEND;TZID=Europe/London:20240523T193000
DTSTAMP:20260419T194034
CREATED:20240412T070041Z
LAST-MODIFIED:20240412T102456Z
UID:6446-1716487200-1716492600@taraomagh.com
SUMMARY:Yoga for Beginners (Evening) Summer 2024
DESCRIPTION:Heather Kemps\nYoga is a very old tradition which has much to offer in today’s lifestyle\, helping us to feel more peaceful in a chaotic world. It helps to harmonize and balance the mind\, body and emotions through using postures\, breath and relaxation techniques. Yoga is for everyone. The practice of yoga is a tool to help individuals develop self-awareness\, thus enabling them to live a more balanced and fulfilling life. \nHeather Kemps has been delivering Yoga Courses at the Tara Centre since the beginning. Her approach stays true to the Indian tradition of Yoga in its original form with a view to healing of both mind and body. It includes a strong focus on exercises to help with not only stress and anxiety but also digestive health. \nThose who practice yoga at Tara are advised to wear loose clothing and bring a blanket or sleeping bag. It is advisable that expectant mothers wait until after the 12th week of pregnancy before attending Yoga sessions. \nAll yoga sessions run for eight weeks. \nDates:\nBeginners: starting Thursday 25th January to Thursday 28th March\, 6.00pm – 7.30pm. \nAdditional classes:\nBeginners:  Wednesday 24th April to Wednesday 12th June 2024\, 10.30am – 12.00am.\nIntermediates:  Thursday 25th April to Thursday 13th June\, 7.30pm – 9pm. \nCost:\n£50 (10 weeks) \nTO BOOK:\nPlaces are limited. Prior booking is essential. Places will be allocated on a first come first served basis. Book your place by contacting Reception on 028 8225 0024. \n“If you become identified with consciousness\, you will experience everyone as yourself. This is what yoga means.”\n \nSadhguru \n 
URL:https://taraomagh.com/programme/yoga-for-beginners-summer-2024-evening/2024-05-23/
LOCATION:Tara Centre\, 11 Holmview Terrace\, Omagh\, Tyrone\, BT79 0AH\, United Kingdom
CATEGORIES:Programmes & Workshops
ATTACH;FMTTYPE=image/jpeg:https://taraomagh.com/wp-content/uploads/2021/09/tara-yoga-thumbnail.jpg
ORGANIZER;CN="Tara Omagh":MAILTO:info@taraomagh.com
GEO:54.6002737;-7.2945612
X-APPLE-STRUCTURED-LOCATION;VALUE=URI;X-ADDRESS=Tara Centre 11 Holmview Terrace Omagh Tyrone BT79 0AH United Kingdom;X-APPLE-RADIUS=500;X-TITLE=11 Holmview Terrace:geo:-7.2945612,54.6002737
END:VEVENT
BEGIN:VEVENT
DTSTART;TZID=Europe/London:20240516T180000
DTEND;TZID=Europe/London:20240516T193000
DTSTAMP:20260419T194034
CREATED:20240412T070041Z
LAST-MODIFIED:20240412T102456Z
UID:6445-1715882400-1715887800@taraomagh.com
SUMMARY:Yoga for Beginners (Evening) Summer 2024
DESCRIPTION:Heather Kemps\nYoga is a very old tradition which has much to offer in today’s lifestyle\, helping us to feel more peaceful in a chaotic world. It helps to harmonize and balance the mind\, body and emotions through using postures\, breath and relaxation techniques. Yoga is for everyone. The practice of yoga is a tool to help individuals develop self-awareness\, thus enabling them to live a more balanced and fulfilling life. \nHeather Kemps has been delivering Yoga Courses at the Tara Centre since the beginning. Her approach stays true to the Indian tradition of Yoga in its original form with a view to healing of both mind and body. It includes a strong focus on exercises to help with not only stress and anxiety but also digestive health. \nThose who practice yoga at Tara are advised to wear loose clothing and bring a blanket or sleeping bag. It is advisable that expectant mothers wait until after the 12th week of pregnancy before attending Yoga sessions. \nAll yoga sessions run for eight weeks. \nDates:\nBeginners: starting Thursday 25th January to Thursday 28th March\, 6.00pm – 7.30pm. \nAdditional classes:\nBeginners:  Wednesday 24th April to Wednesday 12th June 2024\, 10.30am – 12.00am.\nIntermediates:  Thursday 25th April to Thursday 13th June\, 7.30pm – 9pm. \nCost:\n£50 (10 weeks) \nTO BOOK:\nPlaces are limited. Prior booking is essential. Places will be allocated on a first come first served basis. Book your place by contacting Reception on 028 8225 0024. \n“If you become identified with consciousness\, you will experience everyone as yourself. This is what yoga means.”\n \nSadhguru \n 
URL:https://taraomagh.com/programme/yoga-for-beginners-summer-2024-evening/2024-05-16/
LOCATION:Tara Centre\, 11 Holmview Terrace\, Omagh\, Tyrone\, BT79 0AH\, United Kingdom
CATEGORIES:Programmes & Workshops
ATTACH;FMTTYPE=image/jpeg:https://taraomagh.com/wp-content/uploads/2021/09/tara-yoga-thumbnail.jpg
ORGANIZER;CN="Tara Omagh":MAILTO:info@taraomagh.com
GEO:54.6002737;-7.2945612
X-APPLE-STRUCTURED-LOCATION;VALUE=URI;X-ADDRESS=Tara Centre 11 Holmview Terrace Omagh Tyrone BT79 0AH United Kingdom;X-APPLE-RADIUS=500;X-TITLE=11 Holmview Terrace:geo:-7.2945612,54.6002737
END:VEVENT
BEGIN:VEVENT
DTSTART;TZID=Europe/London:20240509T180000
DTEND;TZID=Europe/London:20240509T193000
DTSTAMP:20260419T194034
CREATED:20240412T070041Z
LAST-MODIFIED:20240412T102456Z
UID:6444-1715277600-1715283000@taraomagh.com
SUMMARY:Yoga for Beginners (Evening) Summer 2024
DESCRIPTION:Heather Kemps\nYoga is a very old tradition which has much to offer in today’s lifestyle\, helping us to feel more peaceful in a chaotic world. It helps to harmonize and balance the mind\, body and emotions through using postures\, breath and relaxation techniques. Yoga is for everyone. The practice of yoga is a tool to help individuals develop self-awareness\, thus enabling them to live a more balanced and fulfilling life. \nHeather Kemps has been delivering Yoga Courses at the Tara Centre since the beginning. Her approach stays true to the Indian tradition of Yoga in its original form with a view to healing of both mind and body. It includes a strong focus on exercises to help with not only stress and anxiety but also digestive health. \nThose who practice yoga at Tara are advised to wear loose clothing and bring a blanket or sleeping bag. It is advisable that expectant mothers wait until after the 12th week of pregnancy before attending Yoga sessions. \nAll yoga sessions run for eight weeks. \nDates:\nBeginners: starting Thursday 25th January to Thursday 28th March\, 6.00pm – 7.30pm. \nAdditional classes:\nBeginners:  Wednesday 24th April to Wednesday 12th June 2024\, 10.30am – 12.00am.\nIntermediates:  Thursday 25th April to Thursday 13th June\, 7.30pm – 9pm. \nCost:\n£50 (10 weeks) \nTO BOOK:\nPlaces are limited. Prior booking is essential. Places will be allocated on a first come first served basis. Book your place by contacting Reception on 028 8225 0024. \n“If you become identified with consciousness\, you will experience everyone as yourself. This is what yoga means.”\n \nSadhguru \n 
URL:https://taraomagh.com/programme/yoga-for-beginners-summer-2024-evening/2024-05-09/
LOCATION:Tara Centre\, 11 Holmview Terrace\, Omagh\, Tyrone\, BT79 0AH\, United Kingdom
CATEGORIES:Programmes & Workshops
ATTACH;FMTTYPE=image/jpeg:https://taraomagh.com/wp-content/uploads/2021/09/tara-yoga-thumbnail.jpg
ORGANIZER;CN="Tara Omagh":MAILTO:info@taraomagh.com
GEO:54.6002737;-7.2945612
X-APPLE-STRUCTURED-LOCATION;VALUE=URI;X-ADDRESS=Tara Centre 11 Holmview Terrace Omagh Tyrone BT79 0AH United Kingdom;X-APPLE-RADIUS=500;X-TITLE=11 Holmview Terrace:geo:-7.2945612,54.6002737
END:VEVENT
BEGIN:VEVENT
DTSTART;TZID=Europe/London:20240502T180000
DTEND;TZID=Europe/London:20240502T193000
DTSTAMP:20260419T194034
CREATED:20240412T070041Z
LAST-MODIFIED:20240412T102456Z
UID:6443-1714672800-1714678200@taraomagh.com
SUMMARY:Yoga for Beginners (Evening) Summer 2024
DESCRIPTION:Heather Kemps\nYoga is a very old tradition which has much to offer in today’s lifestyle\, helping us to feel more peaceful in a chaotic world. It helps to harmonize and balance the mind\, body and emotions through using postures\, breath and relaxation techniques. Yoga is for everyone. The practice of yoga is a tool to help individuals develop self-awareness\, thus enabling them to live a more balanced and fulfilling life. \nHeather Kemps has been delivering Yoga Courses at the Tara Centre since the beginning. Her approach stays true to the Indian tradition of Yoga in its original form with a view to healing of both mind and body. It includes a strong focus on exercises to help with not only stress and anxiety but also digestive health. \nThose who practice yoga at Tara are advised to wear loose clothing and bring a blanket or sleeping bag. It is advisable that expectant mothers wait until after the 12th week of pregnancy before attending Yoga sessions. \nAll yoga sessions run for eight weeks. \nDates:\nBeginners: starting Thursday 25th January to Thursday 28th March\, 6.00pm – 7.30pm. \nAdditional classes:\nBeginners:  Wednesday 24th April to Wednesday 12th June 2024\, 10.30am – 12.00am.\nIntermediates:  Thursday 25th April to Thursday 13th June\, 7.30pm – 9pm. \nCost:\n£50 (10 weeks) \nTO BOOK:\nPlaces are limited. Prior booking is essential. Places will be allocated on a first come first served basis. Book your place by contacting Reception on 028 8225 0024. \n“If you become identified with consciousness\, you will experience everyone as yourself. This is what yoga means.”\n \nSadhguru \n 
URL:https://taraomagh.com/programme/yoga-for-beginners-summer-2024-evening/2024-05-02/
LOCATION:Tara Centre\, 11 Holmview Terrace\, Omagh\, Tyrone\, BT79 0AH\, United Kingdom
CATEGORIES:Programmes & Workshops
ATTACH;FMTTYPE=image/jpeg:https://taraomagh.com/wp-content/uploads/2021/09/tara-yoga-thumbnail.jpg
ORGANIZER;CN="Tara Omagh":MAILTO:info@taraomagh.com
GEO:54.6002737;-7.2945612
X-APPLE-STRUCTURED-LOCATION;VALUE=URI;X-ADDRESS=Tara Centre 11 Holmview Terrace Omagh Tyrone BT79 0AH United Kingdom;X-APPLE-RADIUS=500;X-TITLE=11 Holmview Terrace:geo:-7.2945612,54.6002737
END:VEVENT
BEGIN:VEVENT
DTSTART;TZID=Europe/London:20240425T180000
DTEND;TZID=Europe/London:20240425T193000
DTSTAMP:20260419T194034
CREATED:20240412T070041Z
LAST-MODIFIED:20240412T102456Z
UID:5499-1714068000-1714073400@taraomagh.com
SUMMARY:Yoga for Beginners (Evening) Summer 2024
DESCRIPTION:Heather Kemps\nYoga is a very old tradition which has much to offer in today’s lifestyle\, helping us to feel more peaceful in a chaotic world. It helps to harmonize and balance the mind\, body and emotions through using postures\, breath and relaxation techniques. Yoga is for everyone. The practice of yoga is a tool to help individuals develop self-awareness\, thus enabling them to live a more balanced and fulfilling life. \nHeather Kemps has been delivering Yoga Courses at the Tara Centre since the beginning. Her approach stays true to the Indian tradition of Yoga in its original form with a view to healing of both mind and body. It includes a strong focus on exercises to help with not only stress and anxiety but also digestive health. \nThose who practice yoga at Tara are advised to wear loose clothing and bring a blanket or sleeping bag. It is advisable that expectant mothers wait until after the 12th week of pregnancy before attending Yoga sessions. \nAll yoga sessions run for eight weeks. \nDates:\nBeginners: starting Thursday 25th January to Thursday 28th March\, 6.00pm – 7.30pm. \nAdditional classes:\nBeginners:  Wednesday 24th April to Wednesday 12th June 2024\, 10.30am – 12.00am.\nIntermediates:  Thursday 25th April to Thursday 13th June\, 7.30pm – 9pm. \nCost:\n£50 (10 weeks) \nTO BOOK:\nPlaces are limited. Prior booking is essential. Places will be allocated on a first come first served basis. Book your place by contacting Reception on 028 8225 0024. \n“If you become identified with consciousness\, you will experience everyone as yourself. This is what yoga means.”\n \nSadhguru \n 
URL:https://taraomagh.com/programme/yoga-for-beginners-summer-2024-evening/2024-04-25/
LOCATION:Tara Centre\, 11 Holmview Terrace\, Omagh\, Tyrone\, BT79 0AH\, United Kingdom
CATEGORIES:Programmes & Workshops
ATTACH;FMTTYPE=image/jpeg:https://taraomagh.com/wp-content/uploads/2021/09/tara-yoga-thumbnail.jpg
ORGANIZER;CN="Tara Omagh":MAILTO:info@taraomagh.com
GEO:54.6002737;-7.2945612
X-APPLE-STRUCTURED-LOCATION;VALUE=URI;X-ADDRESS=Tara Centre 11 Holmview Terrace Omagh Tyrone BT79 0AH United Kingdom;X-APPLE-RADIUS=500;X-TITLE=11 Holmview Terrace:geo:-7.2945612,54.6002737
END:VEVENT
END:VCALENDAR