BEGIN:VCALENDAR
VERSION:2.0
PRODID:-//Tara Omagh - ECPv6.15.20//NONSGML v1.0//EN
CALSCALE:GREGORIAN
METHOD:PUBLISH
X-ORIGINAL-URL:https://taraomagh.com
X-WR-CALDESC:Events for Tara Omagh
REFRESH-INTERVAL;VALUE=DURATION:PT1H
X-Robots-Tag:noindex
X-PUBLISHED-TTL:PT1H
BEGIN:VTIMEZONE
TZID:Europe/London
BEGIN:DAYLIGHT
TZOFFSETFROM:+0000
TZOFFSETTO:+0100
TZNAME:BST
DTSTART:20240331T010000
END:DAYLIGHT
BEGIN:STANDARD
TZOFFSETFROM:+0100
TZOFFSETTO:+0000
TZNAME:GMT
DTSTART:20241027T010000
END:STANDARD
BEGIN:DAYLIGHT
TZOFFSETFROM:+0000
TZOFFSETTO:+0100
TZNAME:BST
DTSTART:20250330T010000
END:DAYLIGHT
BEGIN:STANDARD
TZOFFSETFROM:+0100
TZOFFSETTO:+0000
TZNAME:GMT
DTSTART:20251026T010000
END:STANDARD
BEGIN:DAYLIGHT
TZOFFSETFROM:+0000
TZOFFSETTO:+0100
TZNAME:BST
DTSTART:20260329T010000
END:DAYLIGHT
BEGIN:STANDARD
TZOFFSETFROM:+0100
TZOFFSETTO:+0000
TZNAME:GMT
DTSTART:20261025T010000
END:STANDARD
END:VTIMEZONE
BEGIN:VEVENT
DTSTART;TZID=Europe/London:20250203T193000
DTEND;TZID=Europe/London:20250203T213000
DTSTAMP:20260420T083433
CREATED:20230905T154348Z
LAST-MODIFIED:20250110T122443Z
UID:7106-1738611000-1738618200@taraomagh.com
SUMMARY:Omagh Men’s Support Group
DESCRIPTION:The group offers men a safe and secure space where they can talk about their emotions\, find help in managing the stress in their lives and explore possible solutions to life’s problems. Issues raised can include relationships\, raising children\, work\, feelings of failure and ambition\, loss\, health and money worries. \nMeetings are normally held every Monday at 7.30pm to 9.30pm. For further information\, contact Gerry on 07799 472968. \nFind out more about Omagh Men’s Support Group at omaghmenssupportgroup.com. \nMeetings resume on Monday\, 13th January.
URL:https://taraomagh.com/programme/omagh-mens-support-group-spring-2025/2025-02-03/
CATEGORIES:Support Groups
ATTACH;FMTTYPE=image/png:https://taraomagh.com/wp-content/uploads/2021/04/tara-news-thumb.png
ORGANIZER;CN="Gerry Madden":MAILTO:gerry27.madden@gmail.com
END:VEVENT
BEGIN:VEVENT
DTSTART;TZID=Europe/London:20250210T193000
DTEND;TZID=Europe/London:20250210T213000
DTSTAMP:20260420T083433
CREATED:20230905T154348Z
LAST-MODIFIED:20250110T122443Z
UID:7107-1739215800-1739223000@taraomagh.com
SUMMARY:Omagh Men’s Support Group
DESCRIPTION:The group offers men a safe and secure space where they can talk about their emotions\, find help in managing the stress in their lives and explore possible solutions to life’s problems. Issues raised can include relationships\, raising children\, work\, feelings of failure and ambition\, loss\, health and money worries. \nMeetings are normally held every Monday at 7.30pm to 9.30pm. For further information\, contact Gerry on 07799 472968. \nFind out more about Omagh Men’s Support Group at omaghmenssupportgroup.com. \nMeetings resume on Monday\, 13th January.
URL:https://taraomagh.com/programme/omagh-mens-support-group-spring-2025/2025-02-10/
CATEGORIES:Support Groups
ATTACH;FMTTYPE=image/png:https://taraomagh.com/wp-content/uploads/2021/04/tara-news-thumb.png
ORGANIZER;CN="Gerry Madden":MAILTO:gerry27.madden@gmail.com
END:VEVENT
BEGIN:VEVENT
DTSTART;TZID=Europe/London:20250211T200000
DTEND;TZID=Europe/London:20250211T213000
DTSTAMP:20260420T083433
CREATED:20230420T121752Z
LAST-MODIFIED:20250110T122351Z
UID:6588-1739304000-1739309400@taraomagh.com
SUMMARY:Living with grief after suicide - PATHS
DESCRIPTION:Paths is an inter-denominational voluntary group formed to support families and individuals bereaved by suicide. Members of the group form a bond of friendship arising from their shared experience of having suffered similar shock\, confusion and loss in their lives. It is within this safe and confidential environment that PATHS’ members share their pain and grief. \nMeetings are held on the second Tuesday of each month\, 8pm – 9.30pm. For further information\, please contact Jimmy on 07879 41485. \nFind out more about PATHS at pathsomagh.com. \nMeetings will resume on Tuesday\, 14th January.
URL:https://taraomagh.com/programme/paths-2025/2025-02-11/
LOCATION:Tara Centre\, 11 Holmview Terrace\, Omagh\, Tyrone\, BT79 0AH\, United Kingdom
CATEGORIES:Support Groups
ATTACH;FMTTYPE=image/jpeg:https://taraomagh.com/wp-content/uploads/2023/04/Paths_background-1-e1682346457191.jpg
ORGANIZER;CN="Jimmy Carrigan":MAILTO:paths@taraomagh.com
GEO:54.6002737;-7.2945612
X-APPLE-STRUCTURED-LOCATION;VALUE=URI;X-ADDRESS=Tara Centre 11 Holmview Terrace Omagh Tyrone BT79 0AH United Kingdom;X-APPLE-RADIUS=500;X-TITLE=11 Holmview Terrace:geo:-7.2945612,54.6002737
END:VEVENT
BEGIN:VEVENT
DTSTART;TZID=Europe/London:20250217T193000
DTEND;TZID=Europe/London:20250217T213000
DTSTAMP:20260420T083433
CREATED:20230905T154348Z
LAST-MODIFIED:20250110T122444Z
UID:7108-1739820600-1739827800@taraomagh.com
SUMMARY:Omagh Men’s Support Group
DESCRIPTION:The group offers men a safe and secure space where they can talk about their emotions\, find help in managing the stress in their lives and explore possible solutions to life’s problems. Issues raised can include relationships\, raising children\, work\, feelings of failure and ambition\, loss\, health and money worries. \nMeetings are normally held every Monday at 7.30pm to 9.30pm. For further information\, contact Gerry on 07799 472968. \nFind out more about Omagh Men’s Support Group at omaghmenssupportgroup.com. \nMeetings resume on Monday\, 13th January.
URL:https://taraomagh.com/programme/omagh-mens-support-group-spring-2025/2025-02-17/
CATEGORIES:Support Groups
ATTACH;FMTTYPE=image/png:https://taraomagh.com/wp-content/uploads/2021/04/tara-news-thumb.png
ORGANIZER;CN="Gerry Madden":MAILTO:gerry27.madden@gmail.com
END:VEVENT
BEGIN:VEVENT
DTSTART;TZID=Europe/London:20250224T193000
DTEND;TZID=Europe/London:20250224T213000
DTSTAMP:20260420T083433
CREATED:20230905T154348Z
LAST-MODIFIED:20250110T122444Z
UID:7109-1740425400-1740432600@taraomagh.com
SUMMARY:Omagh Men’s Support Group
DESCRIPTION:The group offers men a safe and secure space where they can talk about their emotions\, find help in managing the stress in their lives and explore possible solutions to life’s problems. Issues raised can include relationships\, raising children\, work\, feelings of failure and ambition\, loss\, health and money worries. \nMeetings are normally held every Monday at 7.30pm to 9.30pm. For further information\, contact Gerry on 07799 472968. \nFind out more about Omagh Men’s Support Group at omaghmenssupportgroup.com. \nMeetings resume on Monday\, 13th January.
URL:https://taraomagh.com/programme/omagh-mens-support-group-spring-2025/2025-02-24/
CATEGORIES:Support Groups
ATTACH;FMTTYPE=image/png:https://taraomagh.com/wp-content/uploads/2021/04/tara-news-thumb.png
ORGANIZER;CN="Gerry Madden":MAILTO:gerry27.madden@gmail.com
END:VEVENT
END:VCALENDAR