BEGIN:VCALENDAR
VERSION:2.0
PRODID:-//Tara Omagh - ECPv6.15.20//NONSGML v1.0//EN
CALSCALE:GREGORIAN
METHOD:PUBLISH
X-ORIGINAL-URL:https://taraomagh.com
X-WR-CALDESC:Events for Tara Omagh
REFRESH-INTERVAL;VALUE=DURATION:PT1H
X-Robots-Tag:noindex
X-PUBLISHED-TTL:PT1H
BEGIN:VTIMEZONE
TZID:Europe/London
BEGIN:DAYLIGHT
TZOFFSETFROM:+0000
TZOFFSETTO:+0100
TZNAME:BST
DTSTART:20240331T010000
END:DAYLIGHT
BEGIN:STANDARD
TZOFFSETFROM:+0100
TZOFFSETTO:+0000
TZNAME:GMT
DTSTART:20241027T010000
END:STANDARD
BEGIN:DAYLIGHT
TZOFFSETFROM:+0000
TZOFFSETTO:+0100
TZNAME:BST
DTSTART:20250330T010000
END:DAYLIGHT
BEGIN:STANDARD
TZOFFSETFROM:+0100
TZOFFSETTO:+0000
TZNAME:GMT
DTSTART:20251026T010000
END:STANDARD
BEGIN:DAYLIGHT
TZOFFSETFROM:+0000
TZOFFSETTO:+0100
TZNAME:BST
DTSTART:20260329T010000
END:DAYLIGHT
BEGIN:STANDARD
TZOFFSETFROM:+0100
TZOFFSETTO:+0000
TZNAME:GMT
DTSTART:20261025T010000
END:STANDARD
END:VTIMEZONE
BEGIN:VEVENT
DTSTART;TZID=Europe/London:20250301T113000
DTEND;TZID=Europe/London:20250401T171500
DTSTAMP:20260420T081655
CREATED:20250108T143750Z
LAST-MODIFIED:20250108T143851Z
UID:6951-1740828600-1743527700@taraomagh.com
SUMMARY:The Soul of Healing - A Final Gathering
DESCRIPTION:Maura Twohig and Mary Daly\nFor over 25 years\, the Soul of Healing (SOH) one-day Saturday gatherings have been a cornerstone of the Tara Centre’s work\, lovingly hosted by our Co-Founders. These cherished occasions have provided a space for seasoned meditators to come together\, creating an atmosphere of “…healing\, peace and holistic well-being.” Over the years\, these intensives have touched the lives of many\, fostering an ethos that enriches and transforms the quality of life for all who attend. \nHowever\, as with all meaningful endeavours\, the time has come for change. The current format of SOH has run its course\, and we now find ourselves at a natural juncture to reflect on its legacy and reimagine how best to nurture meditation and spiritual growth within the Tara Centre community. \nIn this spirit\, we invite you to join us for one final SOH meeting\, offering an opportunity to honour what this space has meant and mark its conclusion with gratitude and intention. \nWhile this marks the conclusion of SOH in its current form\, it is not the end of our commitment to supporting meditation practice at the Tara Centre. We are actively exploring new approaches to carry forward this vital aspect of our work and will share updates in the near future. \nWe warmly invite you to be part of this special gathering—a moment to reflect\, give thanks\, and step into the next chapter together. \nDates\n:\nSaturday 1st March 2025 \nTime:\n11-11.30am registration and optional ‘cuppa’\n11.30am – 5.15pm Soul of Healing\n5.30pm – celebration meal \nCost:\nYour place is secured with a £10 booking fee. Contributions welcome on the day. \nWho can attend:\nOpen to anyone who has participated in the Tara Centre’s Meditation and Mindfulness courses or attended any SOH meeting over the years. \nBooking\nIMPORTANT – places must be booked by 21st FEBRUARY 2025\n028 82250024
URL:https://taraomagh.com/programme/the-soul-of-healing-a-final-gathering/
LOCATION:Tara Centre\, 11 Holmview Terrace\, Omagh\, Tyrone\, BT79 0AH\, United Kingdom
CATEGORIES:Programmes & Workshops
ATTACH;FMTTYPE=image/jpeg:https://taraomagh.com/wp-content/uploads/2018/04/tara-centre-homepage-slider-welcome-1.jpg
ORGANIZER;CN="Tara Omagh":MAILTO:info@taraomagh.com
GEO:54.6002737;-7.2945612
X-APPLE-STRUCTURED-LOCATION;VALUE=URI;X-ADDRESS=Tara Centre 11 Holmview Terrace Omagh Tyrone BT79 0AH United Kingdom;X-APPLE-RADIUS=500;X-TITLE=11 Holmview Terrace:geo:-7.2945612,54.6002737
END:VEVENT
BEGIN:VEVENT
DTSTART;TZID=Europe/London:20250310T193000
DTEND;TZID=Europe/London:20250310T213000
DTSTAMP:20260420T081655
CREATED:20230905T154348Z
LAST-MODIFIED:20250110T122444Z
UID:7111-1741635000-1741642200@taraomagh.com
SUMMARY:Omagh Men’s Support Group
DESCRIPTION:The group offers men a safe and secure space where they can talk about their emotions\, find help in managing the stress in their lives and explore possible solutions to life’s problems. Issues raised can include relationships\, raising children\, work\, feelings of failure and ambition\, loss\, health and money worries. \nMeetings are normally held every Monday at 7.30pm to 9.30pm. For further information\, contact Gerry on 07799 472968. \nFind out more about Omagh Men’s Support Group at omaghmenssupportgroup.com. \nMeetings resume on Monday\, 13th January.
URL:https://taraomagh.com/programme/omagh-mens-support-group-spring-2025/2025-03-10/
LOCATION:Tyrone
CATEGORIES:Support Groups
ATTACH;FMTTYPE=image/png:https://taraomagh.com/wp-content/uploads/2021/04/tara-news-thumb.png
ORGANIZER;CN="Gerry Madden":MAILTO:gerry27.madden@gmail.com
END:VEVENT
BEGIN:VEVENT
DTSTART;TZID=Europe/London:20250311T103000
DTEND;TZID=Europe/London:20250311T120000
DTSTAMP:20260420T081655
CREATED:20240412T070059Z
LAST-MODIFIED:20250505T152500Z
UID:6933-1741689000-1741694400@taraomagh.com
SUMMARY:Tuesday Meditation
DESCRIPTION:Mary Daly & Maura Twohig\nThe established Tara Centre Meditation Group will resume meeting on Tuesday mornings\, led by Mary and Maura\, commencing on 14th January 2025. \nAnyone who has followed the Meditation / Mindfulness Course for Beginners at the Tara Centre is welcome to join this group at anytime. However\, if you haven’t completed this course and are still interesting in joining the group\, please contact reception and a meeting with the group leader can be arranged. \nDate:\nTuesday mornings 14th January – 8th April incl. \nTime:\n10.30am–12pm \nCost:\nContributions welcome on the day \nRefreshments:\nProvided post meditation \n  \nThe purpose of meditation is to make our mind calm and peaceful. If our mind is peaceful\, we will be free from worries and mental discomfort\, and so we will experience true happiness. But if our mind is not peaceful\, we will find it very difficult to be happy\, even if we are living in the very best conditions. \n– Kelsang Gyatso
URL:https://taraomagh.com/programme/tuesday-meditation-spring-2025/2025-03-11/
LOCATION:Tara Centre\, 11 Holmview Terrace\, Omagh\, Tyrone\, BT79 0AH\, United Kingdom
CATEGORIES:Programmes & Workshops
ATTACH;FMTTYPE=image/jpeg:https://taraomagh.com/wp-content/uploads/2021/09/mary-daly-maura-twohig.jpg
ORGANIZER;CN="Tara Omagh":MAILTO:info@taraomagh.com
GEO:54.6002737;-7.2945612
X-APPLE-STRUCTURED-LOCATION;VALUE=URI;X-ADDRESS=Tara Centre 11 Holmview Terrace Omagh Tyrone BT79 0AH United Kingdom;X-APPLE-RADIUS=500;X-TITLE=11 Holmview Terrace:geo:-7.2945612,54.6002737
END:VEVENT
BEGIN:VEVENT
DTSTART;TZID=Europe/London:20250311T200000
DTEND;TZID=Europe/London:20250311T213000
DTSTAMP:20260420T081655
CREATED:20230420T121752Z
LAST-MODIFIED:20250110T122352Z
UID:6590-1741723200-1741728600@taraomagh.com
SUMMARY:Living with grief after suicide - PATHS
DESCRIPTION:Paths is an inter-denominational voluntary group formed to support families and individuals bereaved by suicide. Members of the group form a bond of friendship arising from their shared experience of having suffered similar shock\, confusion and loss in their lives. It is within this safe and confidential environment that PATHS’ members share their pain and grief. \nMeetings are held on the second Tuesday of each month\, 8pm – 9.30pm. For further information\, please contact Jimmy on 07879 41485. \nFind out more about PATHS at pathsomagh.com. \nMeetings will resume on Tuesday\, 14th January.
URL:https://taraomagh.com/programme/paths-2025/2025-03-11/
LOCATION:Tara Centre\, 11 Holmview Terrace\, Omagh\, Tyrone\, BT79 0AH\, United Kingdom
CATEGORIES:Support Groups
ATTACH;FMTTYPE=image/jpeg:https://taraomagh.com/wp-content/uploads/2023/04/Paths_background-1-e1682346457191.jpg
ORGANIZER;CN="Jimmy Carrigan":MAILTO:paths@taraomagh.com
GEO:54.6002737;-7.2945612
X-APPLE-STRUCTURED-LOCATION;VALUE=URI;X-ADDRESS=Tara Centre 11 Holmview Terrace Omagh Tyrone BT79 0AH United Kingdom;X-APPLE-RADIUS=500;X-TITLE=11 Holmview Terrace:geo:-7.2945612,54.6002737
END:VEVENT
END:VCALENDAR